BEGIN:VCALENDAR
VERSION:2.0
PRODID:-//demosphere.net//NONSGML kigkonsult.se iCalcreator 2.22.1//
METHOD:REQUEST
X-WR-TIMEZONE:Europe/Paris
BEGIN:VEVENT
UID:https://tarn.demosphere.net/rv/945
DTSTAMP:20130428T183000Z
DESCRIPTION:plus d'infos sur : https://tarn.demosphere.net/rv/945
DTSTART:20130428T183000Z
DTEND:20130428T193000Z
LOCATION:Montauban\, \nEspace culturel le VO
SUMMARY:L'Afrique en Tarn- Danse
URL:https://tarn.demosphere.net/rv/945
END:VEVENT
END:VCALENDAR
