BEGIN:VCALENDAR
VERSION:2.0
PRODID:-//demosphere.net//NONSGML kigkonsult.se iCalcreator 2.22.1//
METHOD:REQUEST
X-WR-TIMEZONE:Europe/Paris
BEGIN:VEVENT
UID:https://tarn.demosphere.net/rv/8953
DTSTAMP:20180318T150000Z
DESCRIPTION:plus d'infos sur : https://tarn.demosphere.net/rv/8953
DTSTART:20180318T150000Z
DTEND:20180318T160000Z
GEO:+43.852422;+2.523936
LOCATION:Massals\, \nChapelle de Massals
SUMMARY:Concert du choeur CHOPSKA à Massals
URL:https://tarn.demosphere.net/rv/8953
END:VEVENT
END:VCALENDAR
