BEGIN:VCALENDAR
VERSION:2.0
PRODID:-//demosphere.net//NONSGML kigkonsult.se iCalcreator 2.22.1//
METHOD:REQUEST
X-WR-TIMEZONE:Europe/Paris
BEGIN:VEVENT
UID:https://tarn.demosphere.net/rv/5025
DTSTAMP:20160425T160000Z
DESCRIPTION:plus d'infos sur : https://tarn.demosphere.net/rv/5025
DTSTART:20160425T160000Z
DTEND:20160425T170000Z
LOCATION:Castres\, \nChez Gaëtan Defiolles et Sylvie Luquin \n9 Impasse Viv
 iani
SUMMARY:Atelier Découverte de la Communication Bienveillante (CNV)
URL:https://tarn.demosphere.net/rv/5025
END:VEVENT
END:VCALENDAR
