BEGIN:VCALENDAR
VERSION:2.0
PRODID:-//demosphere.net//NONSGML kigkonsult.se iCalcreator 2.22.1//
METHOD:REQUEST
X-WR-TIMEZONE:Europe/Paris
BEGIN:VEVENT
UID:https://tarn.demosphere.net/rv/4773
DTSTAMP:20160328T070000Z
DESCRIPTION:plus d'infos sur : https://tarn.demosphere.net/rv/4773
DTSTART:20160328T070000Z
DTEND:20160328T080000Z
LOCATION:Vaour\, \nJardin d'Emerveille \nAl Barthas \n81140 Vaour
SUMMARY:Pâques au jardin : ateliers et grande chasse aux oeufs
URL:https://tarn.demosphere.net/rv/4773
END:VEVENT
END:VCALENDAR
