BEGIN:VCALENDAR
VERSION:2.0
PRODID:-//demosphere.net//NONSGML kigkonsult.se iCalcreator 2.22.1//
METHOD:REQUEST
X-WR-TIMEZONE:Europe/Paris
BEGIN:VEVENT
UID:https://tarn.demosphere.net/rv/4772
DTSTAMP:20160325T080000Z
DESCRIPTION:plus d'infos sur : https://tarn.demosphere.net/rv/4772
DTSTART:20160325T080000Z
DTEND:20160325T090000Z
LOCATION:Vaour\, \nLe Jardin d'Emerveille \nAl Barthas \n81140 Les Cabannes
SUMMARY:Balade : les plantes sauvages comestibles
URL:https://tarn.demosphere.net/rv/4772
END:VEVENT
END:VCALENDAR
