BEGIN:VCALENDAR
VERSION:2.0
PRODID:-//demosphere.net//NONSGML kigkonsult.se iCalcreator 2.22.1//
METHOD:REQUEST
X-WR-TIMEZONE:Europe/Paris
BEGIN:VEVENT
UID:https://tarn.demosphere.net/rv/4608
DTSTAMP:20160227T140000Z
DESCRIPTION:plus d'infos sur : https://tarn.demosphere.net/rv/4608
DTSTART:20160227T140000Z
DTEND:20160227T150000Z
LOCATION:Mazamet\, \nRésidence Foch\, 2 avenue du Maréchal Foch
SUMMARY:TEMPS D'EXIL Lecture Spectacle
URL:https://tarn.demosphere.net/rv/4608
END:VEVENT
END:VCALENDAR
