BEGIN:VCALENDAR
VERSION:2.0
PRODID:-//demosphere.net//NONSGML kigkonsult.se iCalcreator 2.22.1//
METHOD:REQUEST
X-WR-TIMEZONE:Europe/Paris
BEGIN:VEVENT
UID:https://tarn.demosphere.net/rv/4559
DTSTAMP:20160205T183000Z
DESCRIPTION:plus d'infos sur : https://tarn.demosphere.net/rv/4559
DTSTART:20160205T183000Z
DTEND:20160205T193000Z
LOCATION:Magrin\, \nMairie de MAGRIN à 15 minutes de LAVAUR direction CASTR
 ES et à 40 minutes de TOULOUSE. \nItinéraire fléché
SUMMARY:On ne peut pas parler d'amour dans une langue morte. Psychose\, Tra
 nsfert et institution
URL:https://tarn.demosphere.net/rv/4559
END:VEVENT
END:VCALENDAR
