BEGIN:VCALENDAR
VERSION:2.0
PRODID:-//demosphere.net//NONSGML kigkonsult.se iCalcreator 2.22.1//
METHOD:REQUEST
X-WR-TIMEZONE:Europe/Paris
BEGIN:VEVENT
UID:https://tarn.demosphere.net/rv/3951
DTSTAMP:20150716T190000Z
DESCRIPTION:plus d'infos sur : https://tarn.demosphere.net/rv/3951
DTSTART:20150716T190000Z
DTEND:20150716T200000Z
LOCATION:Mazamet\, \nEglise st sauveur
SUMMARY:ORGUE et DOROS à MAZAMET
URL:https://tarn.demosphere.net/rv/3951
END:VEVENT
END:VCALENDAR
