BEGIN:VCALENDAR
VERSION:2.0
PRODID:-//demosphere.net//NONSGML kigkonsult.se iCalcreator 2.22.1//
METHOD:REQUEST
X-WR-TIMEZONE:Europe/Paris
BEGIN:VEVENT
UID:https://tarn.demosphere.net/rv/2651
DTSTAMP:20140803T180000Z
DESCRIPTION:plus d'infos sur : https://tarn.demosphere.net/rv/2651
DTSTART:20140803T180000Z
DTEND:20140803T190000Z
LOCATION:Gaillac\, \n« Concerts à la coloc » - 7\, Rue d'Orléans (à proximi
 té de la Place Maurice et Eugénie de Guérin)
SUMMARY:Concert du duo « Les Autres »\, chanson française
URL:https://tarn.demosphere.net/rv/2651
END:VEVENT
END:VCALENDAR
