BEGIN:VCALENDAR
VERSION:2.0
PRODID:-//demosphere.net//NONSGML kigkonsult.se iCalcreator 2.22.1//
METHOD:REQUEST
X-WR-TIMEZONE:Europe/Paris
BEGIN:VEVENT
UID:https://tarn.demosphere.net/rv/25104
DTSTAMP:20260505T163000Z
DESCRIPTION:plus d'infos sur : https://tarn.demosphere.net/rv/25104
DTSTART:20260505T163000Z
DTEND:20260505T173000Z
GEO:+43.764454;+1.991345
LOCATION:Graulhet\, \nMaison des métiers du Cuir \n33\, Rue Saint-Jean \n81
 300 Graulhet
SUMMARY:Rencontre avec les artistes Pinaffo & Pluvinage
URL:https://tarn.demosphere.net/rv/25104
END:VEVENT
END:VCALENDAR
