BEGIN:VCALENDAR
VERSION:2.0
PRODID:-//demosphere.net//NONSGML kigkonsult.se iCalcreator 2.22.1//
METHOD:REQUEST
X-WR-TIMEZONE:Europe/Paris
BEGIN:VEVENT
UID:https://tarn.demosphere.net/rv/25103
DTSTAMP:20260523T163000Z
DESCRIPTION:plus d'infos sur : https://tarn.demosphere.net/rv/25103
DTSTART:20260523T163000Z
DTEND:20260523T173000Z
GEO:+43.925811;+2.138539
LOCATION:Albi\, \nCentre d'art Le Lait \n5 rue de l'Ecole Normale \n81000 A
 Lbi
SUMMARY:Nuit des musées au centre d'art Le Lait
URL:https://tarn.demosphere.net/rv/25103
END:VEVENT
END:VCALENDAR
