BEGIN:VCALENDAR
VERSION:2.0
PRODID:-//demosphere.net//NONSGML kigkonsult.se iCalcreator 2.22.1//
METHOD:REQUEST
X-WR-TIMEZONE:Europe/Paris
BEGIN:VEVENT
UID:https://tarn.demosphere.net/rv/25102
DTSTAMP:20260501T083000Z
DESCRIPTION:plus d'infos sur : https://tarn.demosphere.net/rv/25102
DTSTART:20260501T083000Z
DTEND:20260501T093000Z
LOCATION:Carmaux\, \nplace jean Jaurès 81400 Carmaux
SUMMARY:Manifestation intersyndicale du 1er mai
URL:https://tarn.demosphere.net/rv/25102
END:VEVENT
END:VCALENDAR
