BEGIN:VCALENDAR
VERSION:2.0
PRODID:-//demosphere.net//NONSGML kigkonsult.se iCalcreator 2.22.1//
METHOD:REQUEST
X-WR-TIMEZONE:Europe/Paris
BEGIN:VEVENT
UID:https://tarn.demosphere.net/rv/25101
DTSTAMP:20260516T123000Z
DESCRIPTION:plus d'infos sur : https://tarn.demosphere.net/rv/25101
DTSTART:20260516T123000Z
DTEND:20260516T133000Z
GEO:+43.647553;+2.261331
LOCATION:Castres\, \nLes Cabrols \nChemin de Montfanet \n81100 Castres
SUMMARY:Envol Vert fête ses 15 ans
URL:https://tarn.demosphere.net/rv/25101
END:VEVENT
END:VCALENDAR
