BEGIN:VCALENDAR
VERSION:2.0
PRODID:-//demosphere.net//NONSGML kigkonsult.se iCalcreator 2.22.1//
METHOD:REQUEST
X-WR-TIMEZONE:Europe/Paris
BEGIN:VEVENT
UID:https://tarn.demosphere.net/rv/25100
DTSTAMP:20260705T120000Z
DESCRIPTION:plus d'infos sur : https://tarn.demosphere.net/rv/25100
DTSTART:20260705T120000Z
DTEND:20260705T130000Z
GEO:+43.762056;+1.989642
LOCATION:Graulhet\, \nPlace du Jourdain (place publique) \n81300 Graulhet
SUMMARY:Rues d'été! Festival des arts de la rue.
URL:https://tarn.demosphere.net/rv/25100
END:VEVENT
END:VCALENDAR
