BEGIN:VCALENDAR
VERSION:2.0
PRODID:-//demosphere.net//NONSGML kigkonsult.se iCalcreator 2.22.1//
METHOD:REQUEST
X-WR-TIMEZONE:Europe/Paris
BEGIN:VEVENT
UID:https://tarn.demosphere.net/rv/25095
DTSTAMP:20260528T173000Z
DESCRIPTION:plus d'infos sur : https://tarn.demosphere.net/rv/25095
DTSTART:20260528T173000Z
DTEND:20260528T183000Z
LOCATION:Senouillac\, \nCafé C'est Nous \n5 bis avenue des Vignes
SUMMARY:Conte en musique “Le rossignol et l’empereur” au Café C'est Nous
URL:https://tarn.demosphere.net/rv/25095
END:VEVENT
END:VCALENDAR
