BEGIN:VCALENDAR
VERSION:2.0
PRODID:-//demosphere.net//NONSGML kigkonsult.se iCalcreator 2.22.1//
METHOD:REQUEST
X-WR-TIMEZONE:Europe/Paris
BEGIN:VEVENT
UID:https://tarn.demosphere.net/rv/25094
DTSTAMP:20260502T160000Z
DESCRIPTION:plus d'infos sur : https://tarn.demosphere.net/rv/25094
DTSTART:20260502T160000Z
DTEND:20260502T170000Z
LOCATION:Senouillac\, \nCafé C'est Nous \n5 bis avenue des Vignes
SUMMARY:Soirée Contes au Café C'est Nous!
URL:https://tarn.demosphere.net/rv/25094
END:VEVENT
END:VCALENDAR
