BEGIN:VCALENDAR
VERSION:2.0
PRODID:-//demosphere.net//NONSGML kigkonsult.se iCalcreator 2.22.1//
METHOD:REQUEST
X-WR-TIMEZONE:Europe/Paris
BEGIN:VEVENT
UID:https://tarn.demosphere.net/rv/25093
DTSTAMP:20260508T160000Z
DESCRIPTION:plus d'infos sur : https://tarn.demosphere.net/rv/25093
DTSTART:20260508T160000Z
DTEND:20260508T170000Z
LOCATION:Rabastens\, \nMusée du Pays Rabastinois\, Rabastens
SUMMARY:Contes au musée / Cie Passaparola
URL:https://tarn.demosphere.net/rv/25093
END:VEVENT
END:VCALENDAR
