BEGIN:VCALENDAR
VERSION:2.0
PRODID:-//demosphere.net//NONSGML kigkonsult.se iCalcreator 2.22.1//
METHOD:REQUEST
X-WR-TIMEZONE:Europe/Paris
BEGIN:VEVENT
UID:https://tarn.demosphere.net/rv/25091
DTSTAMP:20260530T070000Z
DESCRIPTION:plus d'infos sur : https://tarn.demosphere.net/rv/25091
DTSTART:20260530T070000Z
DTEND:20260530T080000Z
GEO:+43.489939;+2.374008
LOCATION:Mazamet\, \nSalle de la Halle
SUMMARY:Festival 3° édition du Printemps vert pour une transition écologiqu
 e juste
URL:https://tarn.demosphere.net/rv/25091
END:VEVENT
END:VCALENDAR
