BEGIN:VCALENDAR
VERSION:2.0
PRODID:-//demosphere.net//NONSGML kigkonsult.se iCalcreator 2.22.1//
METHOD:REQUEST
X-WR-TIMEZONE:Europe/Paris
BEGIN:VEVENT
UID:https://tarn.demosphere.net/rv/25090
DTSTAMP:20260517T150000Z
DESCRIPTION:plus d'infos sur : https://tarn.demosphere.net/rv/25090
DTSTART:20260517T150000Z
DTEND:20260517T160000Z
LOCATION:Serviès\, \nEglise Saint Jean-Baptiste 81220 SERVIES
SUMMARY:Concert en duo jazz Violon Contrebasse à l'église de Serviès
URL:https://tarn.demosphere.net/rv/25090
END:VEVENT
END:VCALENDAR
