BEGIN:VCALENDAR
VERSION:2.0
PRODID:-//demosphere.net//NONSGML kigkonsult.se iCalcreator 2.22.1//
METHOD:REQUEST
X-WR-TIMEZONE:Europe/Paris
BEGIN:VEVENT
UID:https://tarn.demosphere.net/rv/25083
DTSTAMP:20260614T140000Z
DESCRIPTION:plus d'infos sur : https://tarn.demosphere.net/rv/25083
DTSTART:20260614T140000Z
DTEND:20260614T150000Z
GEO:+43.925811;+2.138539
LOCATION:Albi\, \nCentre d'art Le Lait \n5 rue de l'Ecole Normale \n81000 A
 Lbi
SUMMARY:Le chant des possibles
URL:https://tarn.demosphere.net/rv/25083
END:VEVENT
END:VCALENDAR
