BEGIN:VCALENDAR
VERSION:2.0
PRODID:-//demosphere.net//NONSGML kigkonsult.se iCalcreator 2.22.1//
METHOD:REQUEST
X-WR-TIMEZONE:Europe/Paris
BEGIN:VEVENT
UID:https://tarn.demosphere.net/rv/25078
DTSTAMP:20260525T080000Z
DESCRIPTION:plus d'infos sur : https://tarn.demosphere.net/rv/25078
DTSTART:20260525T080000Z
DTEND:20260525T090000Z
GEO:+43.759597;+1.988911
LOCATION:Graulhet\, \nParc de la Bousquetarié \nGraulhet
SUMMARY:Biocybele 44°édition de la foire de l'agriculture biologique et des
  alternatives
URL:https://tarn.demosphere.net/rv/25078
END:VEVENT
END:VCALENDAR
