BEGIN:VCALENDAR
VERSION:2.0
PRODID:-//demosphere.net//NONSGML kigkonsult.se iCalcreator 2.22.1//
METHOD:REQUEST
X-WR-TIMEZONE:Europe/Paris
BEGIN:VEVENT
UID:https://tarn.demosphere.net/rv/25077
DTSTAMP:20260524T080000Z
DESCRIPTION:plus d'infos sur : https://tarn.demosphere.net/rv/25077
DTSTART:20260524T080000Z
DTEND:20260524T090000Z
GEO:+43.759597;+1.988911
LOCATION:Graulhet\, \nParc de la Bousquetarié \nGraulhet
SUMMARY:Biocybèle \, 44°édition de la foire de l'agriculture biologique et 
 des alternatives
URL:https://tarn.demosphere.net/rv/25077
END:VEVENT
END:VCALENDAR
