BEGIN:VCALENDAR
VERSION:2.0
PRODID:-//demosphere.net//NONSGML kigkonsult.se iCalcreator 2.22.1//
METHOD:REQUEST
X-WR-TIMEZONE:Europe/Paris
BEGIN:VEVENT
UID:https://tarn.demosphere.net/rv/25076
DTSTAMP:20260519T170000Z
DESCRIPTION:plus d'infos sur : https://tarn.demosphere.net/rv/25076
DTSTART:20260519T170000Z
DTEND:20260519T180000Z
GEO:+43.538428;+2.26235
LOCATION:Labruguière\, \nLe Rond Point \n1\, Place de l'Europe \n81290 Labr
 uguière
SUMMARY:Théatre d'objets Deux pierres- Au fil du Tarn
URL:https://tarn.demosphere.net/rv/25076
END:VEVENT
END:VCALENDAR
