BEGIN:VCALENDAR
VERSION:2.0
PRODID:-//demosphere.net//NONSGML kigkonsult.se iCalcreator 2.22.1//
METHOD:REQUEST
X-WR-TIMEZONE:Europe/Paris
BEGIN:VEVENT
UID:https://tarn.demosphere.net/rv/25074
DTSTAMP:20260426T160000Z
DESCRIPTION:plus d'infos sur : https://tarn.demosphere.net/rv/25074
DTSTART:20260426T160000Z
DTEND:20260426T170000Z
GEO:+43.935016;+2.145696
LOCATION:Albi\, \nLe B.A.R \n10\, rue Porta \n81000 Albi
SUMMARY:Apéro Concert au B.A.R avec M.I.T (punk from belgium)
URL:https://tarn.demosphere.net/rv/25074
END:VEVENT
END:VCALENDAR
