BEGIN:VCALENDAR
VERSION:2.0
PRODID:-//demosphere.net//NONSGML kigkonsult.se iCalcreator 2.22.1//
METHOD:REQUEST
X-WR-TIMEZONE:Europe/Paris
BEGIN:VEVENT
UID:https://tarn.demosphere.net/rv/25072
DTSTAMP:20260422T073000Z
DESCRIPTION:plus d'infos sur : https://tarn.demosphere.net/rv/25072
DTSTART:20260422T073000Z
DTEND:20260422T083000Z
GEO:+43.625661;+2.34314
LOCATION:Burlats\, \nLe Terrier \n45\, chemin du Plo de la Roque \n81100 Bu
 rlats
SUMMARY:Ateliers de création artistique enfants vacances de Printemps
URL:https://tarn.demosphere.net/rv/25072
END:VEVENT
END:VCALENDAR
