BEGIN:VCALENDAR
VERSION:2.0
PRODID:-//demosphere.net//NONSGML kigkonsult.se iCalcreator 2.22.1//
METHOD:REQUEST
X-WR-TIMEZONE:Europe/Paris
BEGIN:VEVENT
UID:https://tarn.demosphere.net/rv/25070
DTSTAMP:20260425T073000Z
DESCRIPTION:plus d'infos sur : https://tarn.demosphere.net/rv/25070
DTSTART:20260425T073000Z
DTEND:20260425T083000Z
GEO:+43.936814;+2.139923
LOCATION:Albi\, \nJardins familiaux de la Madeleine \n26\, passage Valentin
  Hauy \n81000 ALbi
SUMMARY:Accueillir la biodiversité au Jardin - Atelier Jardinage
URL:https://tarn.demosphere.net/rv/25070
END:VEVENT
END:VCALENDAR
