BEGIN:VCALENDAR
VERSION:2.0
PRODID:-//demosphere.net//NONSGML kigkonsult.se iCalcreator 2.22.1//
METHOD:REQUEST
X-WR-TIMEZONE:Europe/Paris
BEGIN:VEVENT
UID:https://tarn.demosphere.net/rv/25068
DTSTAMP:20260507T160000Z
DESCRIPTION:plus d'infos sur : https://tarn.demosphere.net/rv/25068
DTSTART:20260507T160000Z
DTEND:20260507T170000Z
GEO:+43.926882;+2.149275
LOCATION:Albi\, \nCGR Albi Lapérouse \n60 Rue Séré de Rivières \n81000 Albi
SUMMARY:Jeudis Gourmands: 'Amore' de Luca Guadagnino + dégustation découver
 te
URL:https://tarn.demosphere.net/rv/25068
END:VEVENT
END:VCALENDAR
