BEGIN:VCALENDAR
VERSION:2.0
PRODID:-//demosphere.net//NONSGML kigkonsult.se iCalcreator 2.22.1//
METHOD:REQUEST
X-WR-TIMEZONE:Europe/Paris
BEGIN:VEVENT
UID:https://tarn.demosphere.net/rv/25067
DTSTAMP:20260503T120000Z
DESCRIPTION:plus d'infos sur : https://tarn.demosphere.net/rv/25067
DTSTART:20260503T120000Z
DTEND:20260503T130000Z
GEO:+43.926882;+2.149275
LOCATION:Albi\, \nCGR Albi Lapérouse \n60 Rue Séré de Rivières \n81000 Albi
SUMMARY:Séance Jeune Public : 'Olivia' suivie d'une initiation à l'espagnol
URL:https://tarn.demosphere.net/rv/25067
END:VEVENT
END:VCALENDAR
