BEGIN:VCALENDAR
VERSION:2.0
PRODID:-//demosphere.net//NONSGML kigkonsult.se iCalcreator 2.22.1//
METHOD:REQUEST
X-WR-TIMEZONE:Europe/Paris
BEGIN:VEVENT
UID:https://tarn.demosphere.net/rv/25066
DTSTAMP:20260420T161500Z
DESCRIPTION:plus d'infos sur : https://tarn.demosphere.net/rv/25066
DTSTART:20260420T161500Z
DTEND:20260420T171500Z
GEO:+43.926882;+2.149275
LOCATION:Albi\, \nCGR Albi Lapérouse \n60 Rue Séré de Rivières \n81000 Albi
SUMMARY:UNIPOP: Conférence sur les Mayas + 'Ixcanul' de Jayro Bustamante
URL:https://tarn.demosphere.net/rv/25066
END:VEVENT
END:VCALENDAR
