BEGIN:VCALENDAR
VERSION:2.0
PRODID:-//demosphere.net//NONSGML kigkonsult.se iCalcreator 2.22.1//
METHOD:REQUEST
X-WR-TIMEZONE:Europe/Paris
BEGIN:VEVENT
UID:https://tarn.demosphere.net/rv/25065
DTSTAMP:20260425T130000Z
DESCRIPTION:plus d'infos sur : https://tarn.demosphere.net/rv/25065
DTSTART:20260425T130000Z
DTEND:20260425T140000Z
GEO:+43.926882;+2.149275
LOCATION:Albi\, \nCGR Albi Lapérouse \n60 Rue Séré de Rivières \n81000 Albi
SUMMARY:Cycle Spielberg: Jurassic Park (VO-1993)
URL:https://tarn.demosphere.net/rv/25065
END:VEVENT
END:VCALENDAR
