BEGIN:VCALENDAR
VERSION:2.0
PRODID:-//demosphere.net//NONSGML kigkonsult.se iCalcreator 2.22.1//
METHOD:REQUEST
X-WR-TIMEZONE:Europe/Paris
BEGIN:VEVENT
UID:https://tarn.demosphere.net/rv/24853
DTSTAMP:20260313T190000Z
DESCRIPTION:plus d'infos sur : https://tarn.demosphere.net/rv/24853
DTSTART:20260313T190000Z
DTEND:20260313T200000Z
GEO:+43.897541;+1.896197
LOCATION:Gaillac\, \nLe Scénophage \n11\, Petite rue Saint Michel \n81600 G
 aillac
SUMMARY:Justicia - spectacle de clowne décalé
URL:https://tarn.demosphere.net/rv/24853
END:VEVENT
END:VCALENDAR
