BEGIN:VCALENDAR
VERSION:2.0
PRODID:-//demosphere.net//NONSGML kigkonsult.se iCalcreator 2.22.1//
METHOD:REQUEST
X-WR-TIMEZONE:Europe/Paris
BEGIN:VEVENT
UID:https://tarn.demosphere.net/rv/24267
DTSTAMP:20251211T173000Z
DESCRIPTION:plus d'infos sur : https://tarn.demosphere.net/rv/24267
DTSTART:20251211T173000Z
DTEND:20251211T183000Z
GEO:+43.814625;+1.734024
LOCATION:Couffouleux\, \nEspace de vie sociale \nPlace d'Occitanie \n81800 
 Couffouleux
SUMMARY:Vernissage exposition A table le 11 décembre à Couffouleux
URL:https://tarn.demosphere.net/rv/24267
END:VEVENT
END:VCALENDAR
