BEGIN:VCALENDAR
VERSION:2.0
PRODID:-//demosphere.net//NONSGML kigkonsult.se iCalcreator 2.22.1//
METHOD:REQUEST
X-WR-TIMEZONE:Europe/Paris
BEGIN:VEVENT
UID:https://tarn.demosphere.net/rv/2416
DTSTAMP:20140515T180000Z
DESCRIPTION:plus d'infos sur : https://tarn.demosphere.net/rv/2416
DTSTART:20140515T180000Z
DTEND:20140515T190000Z
LOCATION:Toulouse\, \nMJC CROIX DAURADE\, \n141\, chemin Nicol\, 31200 Toul
 ouse
SUMMARY:CAFES CITOYENS: L'impact de la polyandrie dans la transformation de
  la société
URL:https://tarn.demosphere.net/rv/2416
END:VEVENT
END:VCALENDAR
