BEGIN:VCALENDAR
VERSION:2.0
PRODID:-//demosphere.net//NONSGML kigkonsult.se iCalcreator 2.22.1//
METHOD:REQUEST
X-WR-TIMEZONE:Europe/Paris
BEGIN:VEVENT
UID:https://tarn.demosphere.net/rv/23312
DTSTAMP:20250621T170000Z
DESCRIPTION:plus d'infos sur : https://tarn.demosphere.net/rv/23312
DTSTART:20250621T170000Z
DTEND:20250621T180000Z
LOCATION:Saint-Paul Cap de Joux\, \nSALLE DES FETES intérieur et extérieur
SUMMARY:FETE DE LA MUSIQUE
URL:https://tarn.demosphere.net/rv/23312
END:VEVENT
END:VCALENDAR
