BEGIN:VCALENDAR
VERSION:2.0
PRODID:-//demosphere.net//NONSGML kigkonsult.se iCalcreator 2.22.1//
METHOD:REQUEST
X-WR-TIMEZONE:Europe/Paris
BEGIN:VEVENT
UID:https://tarn.demosphere.net/rv/18180
DTSTAMP:20230218T183000Z
DESCRIPTION:plus d'infos sur : https://tarn.demosphere.net/rv/18180
DTSTART:20230218T183000Z
DTEND:20230218T193000Z
LOCATION:Le Faget\, \nle wagon du faget
SUMMARY:Soirée carnaval au wagon!!
URL:https://tarn.demosphere.net/rv/18180
END:VEVENT
END:VCALENDAR
