BEGIN:VCALENDAR
VERSION:2.0
PRODID:-//demosphere.net//NONSGML kigkonsult.se iCalcreator 2.22.1//
METHOD:REQUEST
X-WR-TIMEZONE:Europe/Paris
BEGIN:VEVENT
UID:https://tarn.demosphere.net/rv/1664
DTSTAMP:20131005T183000Z
DESCRIPTION:plus d'infos sur : https://tarn.demosphere.net/rv/1664
DTSTART:20131005T183000Z
DTEND:20131005T193000Z
LOCATION:Rabastens\, \nO'KerKonFée à Rabastens
SUMMARY:Concert Strange Enquete au O'KerKonFée à Rabastens
URL:https://tarn.demosphere.net/rv/1664
END:VEVENT
END:VCALENDAR
