BEGIN:VCALENDAR
VERSION:2.0
PRODID:-//demosphere.net//NONSGML kigkonsult.se iCalcreator 2.22.1//
METHOD:REQUEST
X-WR-TIMEZONE:Europe/Paris
BEGIN:VEVENT
UID:https://tarn.demosphere.net/rv/16465
DTSTAMP:20220417T013300Z
DESCRIPTION:plus d'infos sur : https://tarn.demosphere.net/rv/16465
DTSTART;VALUE=DATE:20220417
LOCATION:Tarn\, \nPARTOUT
SUMMARY:📖 ' La solitud del correire de fons '\, nouvelle publication des Ed
 icions IEO Tarn
URL:https://tarn.demosphere.net/rv/16465
END:VEVENT
END:VCALENDAR
