BEGIN:VCALENDAR
VERSION:2.0
PRODID:-//demosphere.net//NONSGML kigkonsult.se iCalcreator 2.22.1//
METHOD:REQUEST
X-WR-TIMEZONE:Europe/Paris
BEGIN:VEVENT
UID:https://tarn.demosphere.net/rv/1579
DTSTAMP:20130914T143000Z
DESCRIPTION:plus d'infos sur : https://tarn.demosphere.net/rv/1579
DTSTART:20130914T143000Z
DTEND:20130914T153000Z
LOCATION:Toulouse\, \nFIFIGROT
SUMMARY:Festival International du FIlm GROlandais
URL:https://tarn.demosphere.net/rv/1579
END:VEVENT
END:VCALENDAR
