BEGIN:VCALENDAR
VERSION:2.0
PRODID:-//demosphere.net//NONSGML kigkonsult.se iCalcreator 2.22.1//
METHOD:REQUEST
X-WR-TIMEZONE:Europe/Paris
BEGIN:VEVENT
UID:https://tarn.demosphere.net/rv/1477
DTSTAMP:20130912T183000Z
DESCRIPTION:plus d'infos sur : https://tarn.demosphere.net/rv/1477
DTSTART:20130912T183000Z
DTEND:20130912T193000Z
LOCATION:Lagrave\, \nLavoir (repli salle des fêtes)
SUMMARY:Veillée contée gratuite
URL:https://tarn.demosphere.net/rv/1477
END:VEVENT
END:VCALENDAR
