BEGIN:VCALENDAR
VERSION:2.0
PRODID:-//demosphere.net//NONSGML kigkonsult.se iCalcreator 2.22.1//
METHOD:REQUEST
X-WR-TIMEZONE:Europe/Paris
BEGIN:VEVENT
UID:https://tarn.demosphere.net/rv/1471
DTSTAMP:20130907T180000Z
DESCRIPTION:plus d'infos sur : https://tarn.demosphere.net/rv/1471
DTSTART:20130907T180000Z
DTEND:20130907T190000Z
LOCATION:Puycelsi\, \nPlace de l'ancien château (repli salle polyvalente)
SUMMARY:Veillée contée gratuite
URL:https://tarn.demosphere.net/rv/1471
END:VEVENT
END:VCALENDAR
