BEGIN:VCALENDAR
VERSION:2.0
PRODID:-//demosphere.net//NONSGML kigkonsult.se iCalcreator 2.22.1//
METHOD:REQUEST
X-WR-TIMEZONE:Europe/Paris
BEGIN:VEVENT
UID:https://tarn.demosphere.net/rv/1422
DTSTAMP:20130707T140000Z
DESCRIPTION:plus d'infos sur : https://tarn.demosphere.net/rv/1422
DTSTART:20130707T140000Z
DTEND:20130707T150000Z
GEO:+43.580528;+2.276608
LOCATION:Lagarrigue\, \nAvenue de Castres \n81090 Lagarrigue
SUMMARY:FETE FORAINE ARTISANALE
URL:https://tarn.demosphere.net/rv/1422
END:VEVENT
END:VCALENDAR
