BEGIN:VCALENDAR
VERSION:2.0
PRODID:-//demosphere.net//NONSGML kigkonsult.se iCalcreator 2.22.1//
METHOD:REQUEST
X-WR-TIMEZONE:Europe/Paris
BEGIN:VEVENT
UID:https://tarn.demosphere.net/rv/1247
DTSTAMP:20130525T165900Z
DESCRIPTION:plus d'infos sur : https://tarn.demosphere.net/rv/1247
DTSTART:20130525T165900Z
DTEND:20130525T175900Z
LOCATION:Lagarrigue\, \nLa guinguette du printemps
SUMMARY:Festival vagabond « De Lune En L'Une »
URL:https://tarn.demosphere.net/rv/1247
END:VEVENT
END:VCALENDAR
