BEGIN:VCALENDAR
VERSION:2.0
PRODID:-//demosphere.net//NONSGML kigkonsult.se iCalcreator 2.22.1//
METHOD:REQUEST
X-WR-TIMEZONE:Europe/Paris
BEGIN:VEVENT
UID:https://tarn.demosphere.net/rv/1099
DTSTAMP:20130505T100000Z
DESCRIPTION:plus d'infos sur : https://tarn.demosphere.net/rv/1099
DTSTART:20130505T100000Z
DTEND:20130505T110000Z
GEO:+43.580528;+2.276608
LOCATION:Lagarrigue\, \nAvenue de Castres \n81090 Lagarrigue
SUMMARY:Les rencontre des Colibris de l'Autan Journée 'Terre Nourricière'
URL:https://tarn.demosphere.net/rv/1099
END:VEVENT
END:VCALENDAR
