BEGIN:VCALENDAR
VERSION:2.0
PRODID:-//demosphere.net//NONSGML kigkonsult.se iCalcreator 2.22.1//
METHOD:REQUEST
X-WR-TIMEZONE:Europe/Paris
BEGIN:VEVENT
UID:https://tarn.demosphere.net/rv/10329
DTSTAMP:20181104T133000Z
DESCRIPTION:plus d'infos sur : https://tarn.demosphere.net/rv/10329
DTSTART:20181104T133000Z
DTEND:20181104T143000Z
LOCATION:Saint-Paul Cap de Joux\, \nrue pasteur\, salle saint-paulaise
SUMMARY:Après-midi jeux de société
URL:https://tarn.demosphere.net/rv/10329
END:VEVENT
END:VCALENDAR
